BEGIN:VCALENDAR
VERSION:2.0
PRODID:-//Sergio Garc&iacute;a Ferrer - Escritor - ECPv6.14.0//NONSGML v1.0//EN
CALSCALE:GREGORIAN
METHOD:PUBLISH
X-WR-CALNAME:Sergio Garc&iacute;a Ferrer - Escritor
X-ORIGINAL-URL:https://www.sergioescritor.com
X-WR-CALDESC:Eventos para Sergio Garc&iacute;a Ferrer - Escritor
REFRESH-INTERVAL;VALUE=DURATION:PT1H
X-Robots-Tag:noindex
X-PUBLISHED-TTL:PT1H
BEGIN:VTIMEZONE
TZID:UTC
BEGIN:STANDARD
TZOFFSETFROM:+0000
TZOFFSETTO:+0000
TZNAME:UTC
DTSTART:20220101T000000
END:STANDARD
END:VTIMEZONE
BEGIN:VEVENT
DTSTART;TZID=UTC:20220604T200000
DTEND;TZID=UTC:20220604T220000
DTSTAMP:20260423T185929
CREATED:20230820T141559Z
LAST-MODIFIED:20230820T142737Z
UID:1090-1654372800-1654380000@www.sergioescritor.com
SUMMARY:Presentación Cena Club FS Castellar
DESCRIPTION:¡Hola\, lectoras y lectores! \nA las 20:00h se iniciará la cena de fin de temporada del FS Castellar\, del que formo parte en la sección de vóley. Sobre las 21:30h haré un sorteo de dos ejemplares de mi novela entre todos los participantes a la cena (cuento que habrá unas 250 personas) y estaré firmando durante toda la noche. \n¡Nos vemos!
URL:https://www.sergioescritor.com/eventos/2022-06-04-presentacion-cena-club-fs-castellar/
LOCATION:Espai Tolrà\, Carrer de Portugal\, 2\, Castellar del Vallès\, Barcelona\, 08211\, España
CATEGORIES:Presentación
END:VEVENT
END:VCALENDAR