BEGIN:VCALENDAR
VERSION:2.0
PRODID:-//Sergio Garc&iacute;a Ferrer - Escritor - ECPv6.14.0//NONSGML v1.0//EN
CALSCALE:GREGORIAN
METHOD:PUBLISH
X-WR-CALNAME:Sergio Garc&iacute;a Ferrer - Escritor
X-ORIGINAL-URL:https://www.sergioescritor.com
X-WR-CALDESC:Eventos para Sergio Garc&iacute;a Ferrer - Escritor
REFRESH-INTERVAL;VALUE=DURATION:PT1H
X-Robots-Tag:noindex
X-PUBLISHED-TTL:PT1H
BEGIN:VTIMEZONE
TZID:Europe/Paris
BEGIN:DAYLIGHT
TZOFFSETFROM:+0100
TZOFFSETTO:+0200
TZNAME:CEST
DTSTART:20220327T010000
END:DAYLIGHT
BEGIN:STANDARD
TZOFFSETFROM:+0200
TZOFFSETTO:+0100
TZNAME:CET
DTSTART:20221030T010000
END:STANDARD
END:VTIMEZONE
BEGIN:VEVENT
DTSTART;TZID=Europe/Paris:20220603T190000
DTEND;TZID=Europe/Paris:20220603T200000
DTSTAMP:20260423T185945
CREATED:20230819T232057Z
LAST-MODIFIED:20230820T142629Z
UID:1035-1654282800-1654286400@www.sergioescritor.com
SUMMARY:Presentación en librería "La Centraleta"
DESCRIPTION:¡Buenas\, lectoras y lectores! \nEl próximo viernes 6 de junio haré mi primera presentación de mi primer libro «El Despertar del Ángel»\, en la librería de la Centraleta\, en Castellar del Vallés. \n¡Espero veros allí!
URL:https://www.sergioescritor.com/eventos/2022-06-03-presentacion-en-libreria-la-centraleta/
LOCATION:Llibreria la Centraleta\, Carrer Major\, 29\, Castellar del Vallès\, Barcelona\, 08211\, España
CATEGORIES:Presentación
END:VEVENT
END:VCALENDAR